BEGIN:VCALENDAR
VERSION:2.0
PRODID:-//bikebuebe.ch
CALSCALE:GREGORIAN
METHOD:PUBLISH
X-WR-CALNAME:bikebuebe.ch
X-ORIGINAL-URL:https://bikebuebe.ch/produkt/sprungtraining-basic-pumptrack-olten/
X-WR-CALDESC:Sprungtraining Basic Pumptrack Olten
BEGIN:VEVENT
DTSTART;TZID=Europe/Helsinki:20240508T180000
DTEND;TZID=Europe/Helsinki:20240508T200000
SUMMARY:Sprungtraining Basic Pumptrack Olten
DESCRIPTION:Ausrüstung Mountainbike, Dirtbike oder BMX in einwandfreiem Zustand Wir empfehlen für den Fahrtechnikunterricht das Bike mit Bärentatzen-Pedalen (Flat-Pedals) auszurüsten Helm und Handschuhe obligatorisch, Knie- und Ellbogenschoner empfohlen der Witterung entsprechende Kleider Trinkflasche Reserveschlauch Info Gegen einen Aufpreis von CHF 25.- kann vor Ort ein Dirtbike für den Kurs gemietet werden. Bitte bei der Anmeldung vermerken. Konditionen Bezahlung per Kreditkarte, Rechnung oder Banküberweisung. Die Anmeldung ist verbindlich. Durchführung ab 3 Personen. Der Kurs ist auf 6 Teilnehmende beschränkt. Der Kurs findet bei jeder Witterung statt. Versicherung ist Sache des Teilnehmenden. Preisänderungen und Irrtümer vorbehalten.
URL:https://bikebuebe.ch/produkt/sprungtraining-basic-pumptrack-olten/
LOCATION:Bornfeldstrasse 3, 4600 Olten
END:VEVENT
END:VCALENDAR
