BEGIN:VCALENDAR
VERSION:2.0
PRODID:-//bikebuebe.ch
CALSCALE:GREGORIAN
METHOD:PUBLISH
X-WR-CALNAME:bikebuebe.ch
X-ORIGINAL-URL:https://bikebuebe.ch/produkt/chalet-style-mtb-3-tagestour/
X-WR-CALDESC:Chalet-Style MTB 3-Tagestour
BEGIN:VEVENT
DTSTART;TZID=Europe/Helsinki:20210528T100000
DTEND;TZID=Europe/Helsinki:20210530T170000
SUMMARY:Chalet-Style MTB 3-Tagestour
DESCRIPTION:Ausrüstung Mountainbike in einwandfreiem Zustand mit Stollenbereifung Für den bestmöglichen Fahrspass empfehlen wir ein Fully (Federung vorne und hinten) Helm und Handschuhe obligatorisch Der Witterung angepasste Kleidung und Reservekleidung Trinkflasche(n), Snack für Zwischendurch Bequeme Freizeitkleidung, persönliche Utensilien Schlauch Bike-Rucksack empfohlen Konditionen Bezahlung per Kreditkarte, Rechnung oder Banküberweisung Anmeldeschluss: 18. Mai 2021, danach auf Anfrage Durchführung ab 4 Personen, Durchführung bei weniger Personen nach Rücksprache mit Kleingruppenzuschlag möglich Einzeltage auf Anfrage Versicherung ist Sache der Teilnehmenden.
URL:https://bikebuebe.ch/produkt/chalet-style-mtb-3-tagestour/
LOCATION:Bahnhofpl. 1, 3930 Visp
END:VEVENT
END:VCALENDAR
