BEGIN:VCALENDAR
VERSION:2.0
PRODID:-//bikebuebe.ch
CALSCALE:GREGORIAN
METHOD:PUBLISH
X-WR-CALNAME:bikebuebe.ch
X-ORIGINAL-URL:https://bikebuebe.ch/produkt/mtb-huetten-tour/
X-WR-CALDESC:MTB Hütten-Tour
BEGIN:VEVENT
DTSTART;TZID=Europe/Helsinki:20210910T110000
DTEND;TZID=Europe/Helsinki:20210912T170000
SUMMARY:MTB Hütten-Tour
DESCRIPTION:Ausrüstung Mountainbike in einwandfreiem Zustand mit Stollenbereifung Für den bestmöglichen Fahrspass empfehlen wir ein Fully (Federung vorne und hinten) Helm und Handschuhe obligatorisch Der Witterung angepasste Kleidung und Reservekleidung Trinkflasche(n), Snack für Zwischendurch Bequeme Freizeitkleidung, persönliche Utensilien Schlauch Bike-Rucksack für die wichtigsten Utensilien zum Übernachten Konditionen Bezahlung per Kreditkarte, Rechnung oder Banküberweisung Anmeldeschluss: 31. August 2021, danach auf Anfrage Durchführung ab 4 Personen, Durchführung bei weniger Personen nach Rücksprache mit Kleingruppenzuschlag möglich Einzeltage auf Anfrage Versicherung ist Sache der Teilnehmenden.
URL:https://bikebuebe.ch/produkt/mtb-huetten-tour/
LOCATION:Postplatz 4, 3906 Saas-Fee
END:VEVENT
END:VCALENDAR
