BEGIN:VCALENDAR
VERSION:2.0
PRODID:-//bikebuebe.ch
CALSCALE:GREGORIAN
METHOD:PUBLISH
X-WR-CALNAME:bikebuebe.ch
X-ORIGINAL-URL:https://bikebuebe.ch/produkt/e-mtb-fahrtechniktraining-by-twerenbold/
X-WR-CALDESC:E-MTB Fahrtechniktraining by TWERENBOLD
BEGIN:VEVENT
DTSTART;TZID=Europe/Helsinki:20220408T093000
DTEND;TZID=Europe/Helsinki:20220408T150000
SUMMARY:E-MTB Fahrtechniktraining by TWERENBOLD
DESCRIPTION:Kursinhalte Bike-Einstellungen Positionen auf dem Bike Motorunterstützung richtig anwenden richtig Schalten Blickführung und Balance sicheres Bremsen Anfahren/Absteigen am Berg Vorder- und Hinterrad entlasten überwinden von kleinen Hindernissen Anmeldung und Infos Alle Infos zu den Kursen bei TWERENBOLD Reisen in Baden-Rütihof gibt es hier.
URL:https://bikebuebe.ch/produkt/e-mtb-fahrtechniktraining-by-twerenbold/
LOCATION:Im Steiacher 1, 5406 Baden-Rütihof
END:VEVENT
END:VCALENDAR
