BEGIN:VCALENDAR
VERSION:2.0
PRODID:-//bikebuebe.ch
CALSCALE:GREGORIAN
METHOD:PUBLISH
X-WR-CALNAME:bikebuebe.ch
X-ORIGINAL-URL:https://bikebuebe.ch/produkt/kinderkurs-brugg-2/
X-WR-CALDESC:Kinderkurs Brugg 2
BEGIN:VEVENT
DTSTART;TZID=Europe/Helsinki:20210414T133000
DTEND;TZID=Europe/Helsinki:20210519T150000
SUMMARY:Kinderkurs Brugg 2
DESCRIPTION:Ausrüstung Velo oder Mountainbike in einwandfreiem Zustand, Reifen mit genügend Profil für Gelände empfohlen, zwei (!) funktionierende Bremsen Im Zweifelsfall das Velo kurz beim Mechaniker (z.B. Bike Zone) durchchecken lassen Helm und Handschuhe obligatorisch der Witterung entsprechende Kleider Trinkflasche Notfallriegel oder Frucht gegen das Hungerloch Konditionen Bezahlung per Kreditkarte, Rechnung oder Banküberweisung. Die Anmeldung ist verbindlich. Das Kursgeld umfasst alle 5 Daten. Einstieg zu entsprechend reduziertem Preis jederzeit möglich. Durchführung ab 4 Kindern. Versicherung ist Sache der Eltern bzw. erziehungsberechtigten Person. Bei äusserst garstigen Bedingungen behalten wir uns vor einzelne Trainings abzusagen oder zu verkürzen. Preisänderungen und Irrtümer vorbehalten.
URL:https://bikebuebe.ch/produkt/kinderkurs-brugg-2/
LOCATION:Paradiesstrasse 22, 5223 Riniken
END:VEVENT
END:VCALENDAR
