BEGIN:VCALENDAR
VERSION:2.0
PRODID:-//bikebuebe.ch
CALSCALE:GREGORIAN
METHOD:PUBLISH
X-WR-CALNAME:bikebuebe.ch
X-ORIGINAL-URL:https://bikebuebe.ch/produkt/workshop-bikemeitli-2/
X-WR-CALDESC:Workshop Bikemeitli
BEGIN:VEVENT
DTSTART;TZID=Europe/Helsinki:20220415T090000
DTEND;TZID=Europe/Helsinki:20220415T120000
SUMMARY:Workshop Bikemeitli
DESCRIPTION:Inhalte Bikeeinstellungen und Set-up Positionen Blickführung und Balance sicheres Bremsen Auf- und Absteigen / Schalten Stufen fahren Kurventechnik / Linienwahl Vorder- und Hinterrad Entlasten/anheben Ausrüstung MTB in einwandfreiem Zustand mit Stollenbereifung Wir empfehlen für den Fahrtechnikunterricht das Bike mit Bärentatzen-Pedalen (Flat-Pedals) auszurüsten Helm und Handschuhe obligatorisch der Witterung entsprechende Kleider Trinkflasche Reserveschlauch Konditionen Bezahlung per Kreditkarte, Rechnung oder Banküberweisung. Die Anmeldung ist verbindlich. Durchführung ab 3 Personen. Versicherung ist Sache des Teilnehmenden. Preisänderungen und Irrtümer vorbehalten.
URL:https://bikebuebe.ch/produkt/workshop-bikemeitli-2/
LOCATION:Paradiesstrasse 22, 5223 Riniken
END:VEVENT
END:VCALENDAR
