BEGIN:VCALENDAR
VERSION:2.0
PRODID:-//bikebuebe.ch
CALSCALE:GREGORIAN
METHOD:PUBLISH
X-WR-CALNAME:bikebuebe.ch
X-ORIGINAL-URL:https://bikebuebe.ch/produkt/trailwochenende-augstbord-wallis/
X-WR-CALDESC:Trailwochenende Augstbord Wallis
BEGIN:VEVENT
DTSTART;TZID=Europe/Helsinki:20220930T170000
DTEND;TZID=Europe/Helsinki:20221002T170000
SUMMARY:Trailwochenende Augstbord Wallis
DESCRIPTION:Ausrüstung Mountainbike in einwandfreiem Zustand mit Stollenbereifung Für den bestmöglichen Fahrspass empfehlen wir ein Fully (Federung vorne und hinten) Helm und Handschuhe obligatorisch Der Witterung angepasste Kleidung und Reservekleidung Trinkflasche(n), Snack für Zwischendurch Bequeme Freizeitkleidung, persönliche Utensilien Schlauch persönliche Utensilien für Übernachtung Konditionen Bezahlung per Kreditkarte, Rechnung oder Banküberweisung Anmeldeschluss: 24. September 2022, danach auf Anfrage Durchführung ab 4 Personen, Durchführung bei weniger Personen nach Rücksprache mit Kleingruppenzuschlag möglich Versicherung ist Sache der Teilnehmenden.
URL:https://bikebuebe.ch/produkt/trailwochenende-augstbord-wallis/
LOCATION:Bahnhofpl. 1, 3930 Visp
END:VEVENT
END:VCALENDAR
